BEGIN:VCALENDAR
VERSION:2.0
PRODID:-//Contratero//ES
CALSCALE:GREGORIAN
METHOD:PUBLISH
BEGIN:VEVENT
UID:AS 1684@contratero.es
DTSTAMP:20260424T203417Z
DTSTART:20210827T235959
DTEND:20210828T005959
SUMMARY:Cierre: Asistencia técnica para el desarrollo de una plata
DESCRIPTION:Asistencia técnica para el desarrollo de una plataforma para fomentar la internacionalización de las pequeñas y medianas empresas del Algarve y las provincias de Cádiz y Huelva dentro del marco del pr...\\n\\nOrganismo: Presidencia del Instituto de Empleo y Desarrollo Socioeconómico y Tecnológico de la Diputación Provincial de Cádiz\\n\\nVer en Contratero: https://contratero.es/contracts/AS 1684
URL:https://contratero.es/contracts/AS 1684
STATUS:CONFIRMED
BEGIN:VALARM
TRIGGER:-P1D
ACTION:DISPLAY
DESCRIPTION:Recordatorio: Asistencia técnica para el des
END:VALARM
END:VEVENT
END:VCALENDAR